Workbook
Name Question_1_List_of_Tags: Taxonomy_Question_1!$D$3:$D$200
Name Question_2_List_of_Tags: Taxonomy_Question_2!$D$3:$D$200
Name Slicer_Date: #N/A
Name Slicer_Date1: #N/A
Name Slicer_Segment_1: #N/A
Name Slicer_Segment_11: #N/A
Name Slicer_Segment_2: #N/A
Name Slicer_Segment_21: #N/A

Sheet Start here
B2: Introduction
B4: This workbook is designed to assist with tagging and analysing responses to surveys when you don't have access to purpose built software or services.
B7: It can support up to two qualitative questions and two quantitative questions used to segment the data.
B9: For example, you may have asked about what people thought of a product and then asked them to select their age range and what type of phone they have.
B12: You can import data into this workbook, or you can work directly from the Master_Sheet depending on how you're conducting your survey.
B15: Step 1 - Set up your spreadsheet
B17: Question 1 | C17: Enter question 1 from your survey in full
B18: Question 1 Nickname | C18: Give the question a short nickname
B20: Question 2 | C20: Enter question 2 from your survey in full
B21: Question 2 Nickname | C21: Give the question a short nickname
B23: Segmentation 1 | C23: Enter the name of a segment you collected data on
B24: Segmentation 2 | C24: Enter the name of a segment you collected data on
B26: Step 2 - Import your data into Master_Sheet
B28: Step 1 will have labelled all of the columns in Master_Sheet for you. Now you need to spend a few minutes transferring your data into Master_Sheet.
B31: For this step, you can ignore columns H to M.
B34: Step 3 - Set up your tags
B36: Head over to Taxonomy_Question_1 and Taxonomy_Question_2 to set up the tags you'd like to apply to the responses to your two questions.
B39: Depending on your workflow, you may just need to set this up at the start or keep adding to it as you review the responses.
B42: Only enter the Category, Subcategory and Detail. The Full_Tag column will autopopulate and set up your dropdowns in Master_Sheet.
B45: Step 4 - Tag your responses
B47: The reason you're here in the first place, now you can work through Master_Sheet, tagging each response with up to three tags per question.
B50: Step 3 set up dropdowns for you, so you don't need to worry about formatting issues.
B53: Step 5 - Refresh all Data
B55: In the ribbon at the top of Excel, click 'Data' and then 'Refresh All' under Queries & Connections.
... B63: You can use the slicers to see how if data changes when you play around with your segmentations

Sheet Master_Sheet
A1: RefNo | B1: Date | C1: Email | D1: ='Start here'!C23 -> Enter the name of a segment you collected data on | E1: ='Start here'!C24 -> Enter the name of a segment you collected data on | F1: ='Start here'!C17&"_Responses" -> Enter question 1 from your survey in full_Responses | G1: ='Start here'!C20&"_Responses" -> Enter question 2 from your survey in full_Responses | H1: ='Start here'!C18&"_Tag1" -> Give the question a short nickname_Tag1 | I1: ='Start here'!C18&"_Tag2" -> Give the question a short nickname_Tag2 | J1: ='Start here'!C18&"_Tag3" -> Give the question a short nickname_Tag3 | K1: ='Start here'!C21&"_Tag1" -> Give the question a short nickname_Tag1 | L1: ='Start here'!C21&"_Tag2" -> Give the question a short nickname_Tag2 | M1: ='Start here'!C21&"_Tag3" -> Give the question a short nickname_Tag3
A2: RefNo | B2: Date | C2: Email | D2: Segment 1 | E2: Segment 2 | F2: Question_1 | G2: Question_2 | H2: Question_1_Tag1 | I2: Question_1_Tag2 | J2: Question_1_Tag3 | K2: Question_2_Tag1 | L2: Question_2_Tag2 | M2: Question_2_Tag3
C323: showBreadcrumbs = false
C324: hidemeta = true

Sheet Taxonomy_Question_1
A1: ='Start here'!C17 -> Enter question 1 from your survey in full
A2: Category | B2: Subcategory | C2: Detail | D2: Full_Tag | E2: Notes
D3: =_xlfn.TEXTJOIN("-",TRUE,A3:C3)
D4: =_xlfn.TEXTJOIN("-",TRUE,A4:C4)
D5: =_xlfn.TEXTJOIN("-",TRUE,A5:C5)
D6: =_xlfn.TEXTJOIN("-",TRUE,A6:C6)
D7: =_xlfn.TEXTJOIN("-",TRUE,A7:C7)
D8: =_xlfn.TEXTJOIN("-",TRUE,A8:C8)
D9: =_xlfn.TEXTJOIN("-",TRUE,A9:C9)
D10: =_xlfn.TEXTJOIN("-",TRUE,A10:C10)
D11: =_xlfn.TEXTJOIN("-",TRUE,A11:C11)
D12: =_xlfn.TEXTJOIN("-",TRUE,A12:C12)
D13: =_xlfn.TEXTJOIN("-",TRUE,A13:C13)
D14: =_xlfn.TEXTJOIN("-",TRUE,A14:C14)
... D200: =_xlfn.TEXTJOIN("-",TRUE,A200:C200)

Sheet Taxonomy_Question_2
A1: ='Start here'!C20 -> Enter question 2 from your survey in full
A2: Category | B2: Subcategory | C2: Detail | D2: Full_Tag | E2: Notes
D3: =_xlfn.TEXTJOIN("-",TRUE,A3:C3)
D4: =_xlfn.TEXTJOIN("-",TRUE,A4:C4)
D5: =_xlfn.TEXTJOIN("-",TRUE,A5:C5)
D6: =_xlfn.TEXTJOIN("-",TRUE,A6:C6)
D7: =_xlfn.TEXTJOIN("-",TRUE,A7:C7)
D8: =_xlfn.TEXTJOIN("-",TRUE,A8:C8)
D9: =_xlfn.TEXTJOIN("-",TRUE,A9:C9)
D10: =_xlfn.TEXTJOIN("-",TRUE,A10:C10)
D11: =_xlfn.TEXTJOIN("-",TRUE,A11:C11)
D12: =_xlfn.TEXTJOIN("-",TRUE,A12:C12)
D13: =_xlfn.TEXTJOIN("-",TRUE,A13:C13)
D14: =_xlfn.TEXTJOIN("-",TRUE,A14:C14)
... D200: =_xlfn.TEXTJOIN("-",TRUE,A200:C200)

Sheet Dashboard_Question_1
B1: Filters | H1: ='Start here'!C17 -> Enter question 1 from your survey in full
B3: Date
H4: Ten most common tags in responses
P6: Row Labels | Q6: Count of Tag
B10: ='Start here'!C23 -> Enter the name of a segment you collected data on
B17: ='Start here'!C24 -> Enter the name of a segment you collected data on
G22: Total times each tag appears in responses
H25: Tag label | I25: Total count
G86: Feedback explorer
H89: Choose a tag to explore with the dropdown below
H91: {=_xlfn.LET(_xlpm.r,_xlfn._xlws.FILTER(Master_Sheet!F2:F1000,(Master_Sheet!H2:H1000=$I$90)+(Master_Sheet!I2:I1000=$I$90)+(Master_Sheet!J2:J1000=$I$90),""),IF(_xlpm.r=0,"",_xlpm.r))}

Sheet Dashboard_Question_2
B1: Filters | H1: ='Start here'!C17 -> Enter question 1 from your survey in full
B3: Date
H4: Ten most common tags in responses
P6: Row Labels | Q6: Count of Tag
B10: Segment 1
B17: Segment 2
G22: Total times each tag appears in responses
H25: Tag label | I25: Total count
G86: Feedback explorer
H89: Choose a tag to explore with the dropdown below
H91: {=_xlfn.LET(_xlpm.r,_xlfn._xlws.FILTER(Master_Sheet!G2:G1000,(Master_Sheet!K2:K1000=$H$90)+(Master_Sheet!L2:L1000=$H$90)+(Master_Sheet!M2:M1000=$H$90),""),IF(_xlpm.r=0,"",_xlpm.r))}
